BEGIN:VCALENDAR
VERSION:2.0
PRODID:-//&Mu;&Eta;&Tau;&Iota;&Sigma; &Kappa;&Delta;&Beta;&Mu; | &Kappa;&Epsilon;&Kappa; &Kappa;&Omicron;&Upsilon;&Phi;&Alpha;&Lambda;&Iota;&Alpha; - ECPv6.11.2//NONSGML v1.0//EN
CALSCALE:GREGORIAN
METHOD:PUBLISH
X-ORIGINAL-URL:https://metis.edu.gr
X-WR-CALDESC:Events for &Mu;&Eta;&Tau;&Iota;&Sigma; &Kappa;&Delta;&Beta;&Mu; | &Kappa;&Epsilon;&Kappa; &Kappa;&Omicron;&Upsilon;&Phi;&Alpha;&Lambda;&Iota;&Alpha;
REFRESH-INTERVAL;VALUE=DURATION:PT1H
X-Robots-Tag:noindex
X-PUBLISHED-TTL:PT1H
BEGIN:VTIMEZONE
TZID:Europe/Moscow
BEGIN:STANDARD
TZOFFSETFROM:+0300
TZOFFSETTO:+0300
TZNAME:MSK
DTSTART:20230101T000000
END:STANDARD
END:VTIMEZONE
BEGIN:VTIMEZONE
TZID:UTC
BEGIN:STANDARD
TZOFFSETFROM:+0000
TZOFFSETTO:+0000
TZNAME:UTC
DTSTART:20230101T000000
END:STANDARD
END:VTIMEZONE
BEGIN:VEVENT
DTSTART;TZID=Europe/Moscow:20231208T080000
DTEND;TZID=Europe/Moscow:20231208T170000
DTSTAMP:20260422T152244
CREATED:20231106T100547Z
LAST-MODIFIED:20231108T065232Z
UID:3608-1702022400-1702054800@metis.edu.gr
SUMMARY:Business EXCEL για στελέχη επιχειρήσεων
DESCRIPTION:Παρασκευή\, 08/12/2023\, 17:00-21:00\, και Σάββατο\, 09/12/2023\, 10:00-14:00
URL:https://metis.edu.gr/event/business-excel-%ce%b3%ce%b9%ce%b1-%cf%83%cf%84%ce%b5%ce%bb%ce%ad%cf%87%ce%b7-%ce%b5%cf%80%ce%b9%cf%87%ce%b5%ce%b9%cf%81%ce%ae%cf%83%ce%b5%cf%89%ce%bd/
LOCATION:ΕΞ ΑΠΟΣΤΑΣΕΩΣ
END:VEVENT
BEGIN:VEVENT
DTSTART;TZID=Europe/Moscow:20231128T160000
DTEND;TZID=Europe/Moscow:20231128T160000
DTSTAMP:20260422T152244
CREATED:20230924T115311Z
LAST-MODIFIED:20230924T115311Z
UID:3377-1701187200-1701187200@metis.edu.gr
SUMMARY:Πιστοποίηση Πληροφορικής IT Skills Essential
DESCRIPTION:
URL:https://metis.edu.gr/event/%cf%80%ce%b9%cf%83%cf%84%ce%bf%cf%80%ce%bf%ce%af%ce%b7%cf%83%ce%b7-%cf%80%ce%bb%ce%b7%cf%81%ce%bf%cf%86%ce%bf%cf%81%ce%b9%ce%ba%ce%ae%cf%82-it-skills-essential-2/
LOCATION:ΚΔΒΜ ΜΗΤΙΣ
END:VEVENT
BEGIN:VEVENT
DTSTART;TZID=Europe/Moscow:20231121T170000
DTEND;TZID=Europe/Moscow:20231121T170000
DTSTAMP:20260422T152244
CREATED:20230925T152328Z
LAST-MODIFIED:20230925T152715Z
UID:3381-1700586000-1700586000@metis.edu.gr
SUMMARY:Υγιεινή και Ασφάλεια Τροφίμων
DESCRIPTION:Τρίτη\, 21/11/2023\, 17:00-22:00 και Τετάρτη\, 22/11/2023\, 17:00-22:00
URL:https://metis.edu.gr/event/%cf%85%ce%b3%ce%b9%ce%b5%ce%b9%ce%bd%ce%ae-%ce%ba%ce%b1%ce%b9-%ce%b1%cf%83%cf%86%ce%ac%ce%bb%ce%b5%ce%b9%ce%b1-%cf%84%cf%81%ce%bf%cf%86%ce%af%ce%bc%cf%89%ce%bd/
LOCATION:ΕΞ ΑΠΟΣΤΑΣΕΩΣ
END:VEVENT
BEGIN:VEVENT
DTSTART;TZID=Europe/Moscow:20231120T170000
DTEND;TZID=Europe/Moscow:20231120T170000
DTSTAMP:20260422T152244
CREATED:20230923T164252Z
LAST-MODIFIED:20230926T040836Z
UID:3358-1700499600-1700499600@metis.edu.gr
SUMMARY:Διαχείριση E-Shop με WordPress - WooCommerce
DESCRIPTION:Δευτέρα\, 20/11/2023\, 17:00-22:00\, και Τετάρτη\, 22/11/2023\, 17:00-22:00
URL:https://metis.edu.gr/event/%ce%b4%ce%b9%ce%b1%cf%87%ce%b5%ce%af%cf%81%ce%b9%cf%83%ce%b7-e-shop-%ce%bc%ce%b5-wordpress-woocommerce/
LOCATION:ΕΞ ΑΠΟΣΤΑΣΕΩΣ
END:VEVENT
BEGIN:VEVENT
DTSTART;TZID=UTC:20231120T000000
DTEND;TZID=UTC:20231120T170000
DTSTAMP:20260422T152244
CREATED:20230808T180517Z
LAST-MODIFIED:20230809T095322Z
UID:2770-1700438400-1700499600@metis.edu.gr
SUMMARY:Ορθολογική Χρήση Γεωργικών Φαρμάκων - Ραντιστές και Αγρότες
DESCRIPTION:
URL:https://metis.edu.gr/event/%ce%bf%cf%81%ce%b8%ce%bf%ce%bb%ce%bf%ce%b3%ce%b9%ce%ba%ce%ae-%cf%87%cf%81%ce%ae%cf%83%ce%b7-%ce%b3%ce%b5%cf%89%cf%81%ce%b3%ce%b9%ce%ba%cf%8e%ce%bd-%cf%86%ce%b1%cf%81%ce%bc%ce%ac%ce%ba%cf%89%ce%bd/
LOCATION:ΚΔΒΜ ΜΗΤΙΣ
END:VEVENT
BEGIN:VEVENT
DTSTART;TZID=Europe/Moscow:20231114T170000
DTEND;TZID=Europe/Moscow:20231114T170000
DTSTAMP:20260422T152244
CREATED:20231001T131616Z
LAST-MODIFIED:20231001T131616Z
UID:3503-1699981200-1699981200@metis.edu.gr
SUMMARY:Υπάλληλος Γραφείου - Εγχειρίδιο Εννοιών\, Αρμοδιοτήτων και Καθηκόντων
DESCRIPTION:Τρίτη\, 14/11/2023\, 17:00-21:00\, Πέμπτη\, 16/11/2023\, 17:00-21:00\, και Σάββατο\, 18/11/2023\, 10:00-14:00
URL:https://metis.edu.gr/event/%cf%85%cf%80%ce%ac%ce%bb%ce%bb%ce%b7%ce%bb%ce%bf%cf%82-%ce%b3%cf%81%ce%b1%cf%86%ce%b5%ce%af%ce%bf%cf%85-%ce%b5%ce%b3%cf%87%ce%b5%ce%b9%cf%81%ce%af%ce%b4%ce%b9%ce%bf-%ce%b5%ce%bd%ce%bd%ce%bf%ce%b9/
LOCATION:ΕΞ ΑΠΟΣΤΑΣΕΩΣ
END:VEVENT
BEGIN:VEVENT
DTSTART;TZID=Europe/Moscow:20231110T160000
DTEND;TZID=Europe/Moscow:20231110T160000
DTSTAMP:20260422T152244
CREATED:20231030T081851Z
LAST-MODIFIED:20231030T081851Z
UID:3586-1699632000-1699632000@metis.edu.gr
SUMMARY:Εκπαίδευση Εκπαιδευτών Ενηλίκων για συμμετοχή στις εξετάσεις επάρκειας του ΕΟΠΠΕΠ
DESCRIPTION:
URL:https://metis.edu.gr/event/%ce%b5%ce%ba%cf%80%ce%b1%ce%af%ce%b4%ce%b5%cf%85%cf%83%ce%b7-%ce%b5%ce%ba%cf%80%ce%b1%ce%b9%ce%b4%ce%b5%cf%85%cf%84%cf%8e%ce%bd-%ce%b5%ce%bd%ce%b7%ce%bb%ce%af%ce%ba%cf%89%ce%bd-%ce%b3%ce%b9%ce%b1/
LOCATION:ΕΞ ΑΠΟΣΤΑΣΕΩΣ
END:VEVENT
BEGIN:VEVENT
DTSTART;TZID=Europe/Moscow:20231103T170000
DTEND;TZID=Europe/Moscow:20231103T170000
DTSTAMP:20260422T152244
CREATED:20230808T075344Z
LAST-MODIFIED:20230926T044320Z
UID:2643-1699030800-1699030800@metis.edu.gr
SUMMARY:Power BI για στελέχη επιχειρήσεων
DESCRIPTION:Παρασκευή\, 3/11/2023\, 17:00-21:00 και\, Σάββατο\, 4/11/2023\, 10:00-14:00
URL:https://metis.edu.gr/event/power-bi/
LOCATION:ΕΞ ΑΠΟΣΤΑΣΕΩΣ
END:VEVENT
BEGIN:VEVENT
DTSTART;TZID=Europe/Moscow:20231103T040000
DTEND;TZID=Europe/Moscow:20231103T040000
DTSTAMP:20260422T152244
CREATED:20230924T114657Z
LAST-MODIFIED:20230924T115100Z
UID:3375-1698984000-1698984000@metis.edu.gr
SUMMARY:Άδεια Security (απογευματινό τμήμα)
DESCRIPTION:
URL:https://metis.edu.gr/event/%ce%ac%ce%b4%ce%b5%ce%b9%ce%b1-security-%ce%b1%cf%80%ce%bf%ce%b3%ce%b5%cf%85%ce%bc%ce%b1%cf%84%ce%b9%ce%bd%cf%8c-%cf%84%ce%bc%ce%ae%ce%bc%ce%b1/
LOCATION:ΕΞ ΑΠΟΣΤΑΣΕΩΣ
END:VEVENT
BEGIN:VEVENT
DTSTART;TZID=Europe/Moscow:20231024T160000
DTEND;TZID=Europe/Moscow:20231024T160000
DTSTAMP:20260422T152244
CREATED:20230924T115500Z
LAST-MODIFIED:20230924T115500Z
UID:3379-1698163200-1698163200@metis.edu.gr
SUMMARY:Πιστοποίηση Πληροφορικής IT Skills Essential
DESCRIPTION:
URL:https://metis.edu.gr/event/%cf%80%ce%b9%cf%83%cf%84%ce%bf%cf%80%ce%bf%ce%af%ce%b7%cf%83%ce%b7-%cf%80%ce%bb%ce%b7%cf%81%ce%bf%cf%86%ce%bf%cf%81%ce%b9%ce%ba%ce%ae%cf%82-it-skills-essential-3/
LOCATION:ΚΔΒΜ ΜΗΤΙΣ
END:VEVENT
BEGIN:VEVENT
DTSTART;TZID=Europe/Moscow:20231020T170000
DTEND;TZID=Europe/Moscow:20231020T170000
DTSTAMP:20260422T152244
CREATED:20230808T071938Z
LAST-MODIFIED:20231006T061355Z
UID:2635-1697821200-1697821200@metis.edu.gr
SUMMARY:Business EXCEL για στελέχη επιχειρήσεων
DESCRIPTION:Παρασκευή\, 20/10/2023\, 17:00-21:00\, και Δευτερα\, 23/10/2023\, 17:00-21:00
URL:https://metis.edu.gr/event/business-excel/
LOCATION:ΕΞ ΑΠΟΣΤΑΣΕΩΣ
END:VEVENT
BEGIN:VEVENT
DTSTART;TZID=UTC:20231013T170000
DTEND;TZID=UTC:20231013T170000
DTSTAMP:20260422T152244
CREATED:20230808T180154Z
LAST-MODIFIED:20230818T080332Z
UID:2768-1697216400-1697216400@metis.edu.gr
SUMMARY:Υγιεινή και Ασφάλεια Τροφίμων
DESCRIPTION:
URL:https://metis.edu.gr/event/%cf%85%ce%b3%ce%b5%ce%b9%ce%bd%ce%ae-%ce%ba%ce%b1%ce%b9-%ce%b1%cf%83%cf%86%ce%ac%ce%bb%ce%b5%ce%b9%ce%b1-%cf%84%cf%81%ce%bf%cf%86%ce%af%ce%bc%cf%89%ce%bd/
LOCATION:ΚΔΒΜ ΜΗΤΙΣ
END:VEVENT
BEGIN:VEVENT
DTSTART;TZID=Europe/Moscow:20231013T100000
DTEND;TZID=Europe/Moscow:20231013T100000
DTSTAMP:20260422T152244
CREATED:20230924T114545Z
LAST-MODIFIED:20230924T114545Z
UID:3373-1697191200-1697191200@metis.edu.gr
SUMMARY:Άδεια Security (πρωινό τμήμα)
DESCRIPTION:
URL:https://metis.edu.gr/event/%ce%ac%ce%b4%ce%b5%ce%b9%ce%b1-security-%cf%80%cf%81%cf%89%ce%b9%ce%bd%cf%8c-%cf%84%ce%bc%ce%ae%ce%bc%ce%b1/
LOCATION:ΕΞ ΑΠΟΣΤΑΣΕΩΣ
END:VEVENT
BEGIN:VEVENT
DTSTART;TZID=UTC:20230927T160000
DTEND;TZID=UTC:20230927T160000
DTSTAMP:20260422T152244
CREATED:20230902T164739Z
LAST-MODIFIED:20230902T165010Z
UID:3083-1695830400-1695830400@metis.edu.gr
SUMMARY:Πιστοποίηση Πληροφορικής IT Skills Essential
DESCRIPTION:
URL:https://metis.edu.gr/event/%cf%80%ce%b9%cf%83%cf%84%ce%bf%cf%80%ce%bf%ce%af%ce%b7%cf%83%ce%b7-%cf%80%ce%bb%ce%b7%cf%81%ce%bf%cf%86%ce%bf%cf%81%ce%b9%ce%ba%ce%ae%cf%82-it-skills-essential/
LOCATION:ΚΔΒΜ ΜΗΤΙΣ
END:VEVENT
BEGIN:VEVENT
DTSTART;TZID=Europe/Moscow:20230914T160000
DTEND;TZID=Europe/Moscow:20230914T160000
DTSTAMP:20260422T152244
CREATED:20230807T084357Z
LAST-MODIFIED:20230902T164243Z
UID:2589-1694707200-1694707200@metis.edu.gr
SUMMARY:Άδεια Security (απογευματινό τμήμα)
DESCRIPTION:
URL:https://metis.edu.gr/event/%ce%b1%cf%80%ce%bf%ce%b3%ce%b5%cf%85%ce%bc%ce%b1%cf%84%ce%b9%ce%bd%cf%8c-%cf%84%ce%bc%ce%ae%ce%bc%ce%b1-security/
LOCATION:ΕΞ ΑΠΟΣΤΑΣΕΩΣ
END:VEVENT
BEGIN:VEVENT
DTSTART;TZID=UTC:20230911T170000
DTEND;TZID=UTC:20230911T170000
DTSTAMP:20260422T152244
CREATED:20230808T180959Z
LAST-MODIFIED:20230902T165116Z
UID:2772-1694451600-1694451600@metis.edu.gr
SUMMARY:Πιστοποίηση Αγγλικών (A1-C2)
DESCRIPTION:
URL:https://metis.edu.gr/event/lte-%ce%b1%ce%b3%ce%b3%ce%bb%ce%b9%ce%ba%ce%b1-a1-c2/
LOCATION:ΕΞ ΑΠΟΣΤΑΣΕΩΣ
END:VEVENT
BEGIN:VEVENT
DTSTART;TZID=Europe/Moscow:20230911T160000
DTEND;TZID=Europe/Moscow:20230911T160000
DTSTAMP:20260422T152244
CREATED:20230811T064633Z
LAST-MODIFIED:20230902T164136Z
UID:2908-1694448000-1694448000@metis.edu.gr
SUMMARY:Εκπαίδευση Εκπαιδευτών Ενηλίκων για συμμετοχή στις εξετάσεις επάρκειας του ΕΟΠΠΕΠ
DESCRIPTION:
URL:https://metis.edu.gr/event/%cf%83%ce%b5%ce%bc%ce%b9%ce%bd%ce%ac%cf%81%ce%b9%ce%bf-%ce%b5%ce%ba%cf%80%ce%b1%ce%af%ce%b4%ce%b5%cf%85%cf%83%ce%b7-%ce%b5%ce%ba%cf%80%ce%b1%ce%b9%ce%b4%ce%b5%cf%85%cf%84%cf%8e%ce%bd-%ce%b5%ce%bd/
END:VEVENT
BEGIN:VEVENT
DTSTART;TZID=Europe/Moscow:20230825T090000
DTEND;TZID=Europe/Moscow:20230825T090000
DTSTAMP:20260422T152244
CREATED:20230807T042258Z
LAST-MODIFIED:20230808T181433Z
UID:2507-1692954000-1692954000@metis.edu.gr
SUMMARY:Άδεια Security (πρωινό τμήμα)
DESCRIPTION:
URL:https://metis.edu.gr/event/%cf%80%cf%81%cf%89%ce%b9%ce%bd%cf%8c-%cf%84%ce%bc%ce%ae%ce%bc%ce%b1-security/
LOCATION:ΕΞ ΑΠΟΣΤΑΣΕΩΣ
ATTACH;FMTTYPE=image/png:https://metis.edu.gr/wp-content/uploads/2023/08/security_1080.png
END:VEVENT
END:VCALENDAR